BEGIN:VCALENDAR
VERSION:2.0
PRODID:-//KAGS - ECPv6.15.20//NONSGML v1.0//EN
CALSCALE:GREGORIAN
METHOD:PUBLISH
X-ORIGINAL-URL:https://kagsgolf.com
X-WR-CALDESC:Events for KAGS
REFRESH-INTERVAL;VALUE=DURATION:PT1H
X-Robots-Tag:noindex
X-PUBLISHED-TTL:PT1H
BEGIN:VTIMEZONE
TZID:UTC
BEGIN:STANDARD
TZOFFSETFROM:+0000
TZOFFSETTO:+0000
TZNAME:UTC
DTSTART:20240101T000000
END:STANDARD
END:VTIMEZONE
BEGIN:VEVENT
DTSTART;VALUE=DATE:20250628
DTEND;VALUE=DATE:20250629
DTSTAMP:20260420T201053
CREATED:20250406T161347Z
LAST-MODIFIED:20250504T175917Z
UID:846-1751068800-1751155199@kagsgolf.com
SUMMARY:June Mug
DESCRIPTION:Designation: KAGS – Tournament \nCourse: TBD – North \nTee/Green Fees: \n \nRemarks:
URL:https://kagsgolf.com/event/june-mug/
END:VEVENT
END:VCALENDAR