BEGIN:VCALENDAR
VERSION:2.0
PRODID:-//KAGS - ECPv6.15.20//NONSGML v1.0//EN
CALSCALE:GREGORIAN
METHOD:PUBLISH
X-WR-CALNAME:KAGS
X-ORIGINAL-URL:https://kagsgolf.com
X-WR-CALDESC:Events for KAGS
REFRESH-INTERVAL;VALUE=DURATION:PT1H
X-Robots-Tag:noindex
X-PUBLISHED-TTL:PT1H
BEGIN:VTIMEZONE
TZID:UTC
BEGIN:STANDARD
TZOFFSETFROM:+0000
TZOFFSETTO:+0000
TZNAME:UTC
DTSTART:20240101T000000
END:STANDARD
END:VTIMEZONE
BEGIN:VEVENT
DTSTART;VALUE=DATE:20250705
DTEND;VALUE=DATE:20250706
DTSTAMP:20260420T181726
CREATED:20250406T161852Z
LAST-MODIFIED:20250406T161852Z
UID:848-1751673600-1751759999@kagsgolf.com
SUMMARY:July 4th Tourney
DESCRIPTION:Designation: NO OFFICIAL TOURNAMENT \nCourse: TBD \nTee/Green Fees: Holiday weekend – No planned KAGs events. Members encouraged to organize an unofficial outing\n\n \nRemarks: Members are welcome to arrange unofficial outings.
URL:https://kagsgolf.com/event/july-4th-tourney/
END:VEVENT
END:VCALENDAR