BEGIN:VCALENDAR
VERSION:2.0
PRODID:-//KAGS - ECPv6.15.20//NONSGML v1.0//EN
CALSCALE:GREGORIAN
METHOD:PUBLISH
X-ORIGINAL-URL:https://kagsgolf.com
X-WR-CALDESC:Events for KAGS
REFRESH-INTERVAL;VALUE=DURATION:PT1H
X-Robots-Tag:noindex
X-PUBLISHED-TTL:PT1H
BEGIN:VTIMEZONE
TZID:UTC
BEGIN:STANDARD
TZOFFSETFROM:+0000
TZOFFSETTO:+0000
TZNAME:UTC
DTSTART:20240101T000000
END:STANDARD
END:VTIMEZONE
BEGIN:VEVENT
DTSTART;VALUE=DATE:20250809
DTEND;VALUE=DATE:20250810
DTSTAMP:20260420T150137
CREATED:20250717T193558Z
LAST-MODIFIED:20250717T193726Z
UID:1491-1754697600-1754783999@kagsgolf.com
SUMMARY:Erickson Classic
DESCRIPTION:Venue: Majestic Oaks in Ham Lake
URL:https://kagsgolf.com/event/erickson-classic/
CATEGORIES:golf event
END:VEVENT
BEGIN:VEVENT
DTSTART;VALUE=DATE:20250810
DTEND;VALUE=DATE:20250811
DTSTAMP:20260420T150137
CREATED:20250406T163112Z
LAST-MODIFIED:20250717T154047Z
UID:874-1754784000-1754870399@kagsgolf.com
SUMMARY:Aug Open
DESCRIPTION:Designation: KAGS Tournament \nCourse: TBD – North \nTee/Green Fees: \n \nRemarks:
URL:https://kagsgolf.com/event/aug-open/
END:VEVENT
BEGIN:VEVENT
DTSTART;VALUE=DATE:20250823
DTEND;VALUE=DATE:20250824
DTSTAMP:20260420T150137
CREATED:20250406T163457Z
LAST-MODIFIED:20250504T180408Z
UID:879-1755907200-1755993599@kagsgolf.com
SUMMARY:KAGS Captains Challenge
DESCRIPTION:Designation: Championship -KAGS Major \nCourse: \nTee/Green Fees:12PM/TBD\n \nRemarks:
URL:https://kagsgolf.com/event/kags-captains-challenge/
END:VEVENT
BEGIN:VEVENT
DTSTART;VALUE=DATE:20250830
DTEND;VALUE=DATE:20250831
DTSTAMP:20260420T150137
CREATED:20250406T164446Z
LAST-MODIFIED:20250504T180526Z
UID:884-1756512000-1756598399@kagsgolf.com
SUMMARY:Kenya Cup - Labor Day
DESCRIPTION:Designation: Sponsored – KAGS Major \nCourse: TBD \nTee/Green Fees: \n \nRemarks:
URL:https://kagsgolf.com/event/kenya-cup-labor-day/
END:VEVENT
END:VCALENDAR