BEGIN:VCALENDAR
VERSION:2.0
PRODID:-//KAGS - ECPv6.15.20//NONSGML v1.0//EN
CALSCALE:GREGORIAN
METHOD:PUBLISH
X-ORIGINAL-URL:https://kagsgolf.com
X-WR-CALDESC:Events for KAGS
REFRESH-INTERVAL;VALUE=DURATION:PT1H
X-Robots-Tag:noindex
X-PUBLISHED-TTL:PT1H
BEGIN:VTIMEZONE
TZID:UTC
BEGIN:STANDARD
TZOFFSETFROM:+0000
TZOFFSETTO:+0000
TZNAME:UTC
DTSTART:20240101T000000
END:STANDARD
END:VTIMEZONE
BEGIN:VEVENT
DTSTART;VALUE=DATE:20250906
DTEND;VALUE=DATE:20250907
DTSTAMP:20260420T125851
CREATED:20250406T165135Z
LAST-MODIFIED:20250504T180628Z
UID:888-1757116800-1757203199@kagsgolf.com
SUMMARY:Beyond Season Golf Tournament
DESCRIPTION:Designation: Charity Event \nCourse: Brookview Golf Course \nTee/Green Fees:10A/$80?\n \nRemarks:
URL:https://kagsgolf.com/event/beyond-season-golf-tournament/
END:VEVENT
END:VCALENDAR